BEGIN:VCALENDAR
VERSION:2.0
PRODID:-//ChamberMaster//Event Calendar 2.0//EN
METHOD:PUBLISH
X-PUBLISHED-TTL:P3D
REFRESH-INTERVAL:P3D
CALSCALE:GREGORIAN
BEGIN:VEVENT
DTSTART:20210514T200000Z
DTEND:20210514T211500Z
X-MICROSOFT-CDO-ALLDAYEVENT:FALSE
SUMMARY:Folk Flowers Painting
DESCRIPTION:Learn painting basics in this fun and easy workshop. Especially exciting for students age 6-12! Instructor Rio Davies All ages
X-ALT-DESC;FMTTYPE=text/html:Learn painting basics in this fun and easy workshop. Especially exciting for students age 6-12! Instructor Rio Davies All ages
LOCATION:Colquitt County Arts Center 401 7th Avenue S.W. Moultrie\, GA 31768
UID:e.570.11395
SEQUENCE:3
DTSTAMP:20260424T091138Z
URL:http://business.moultriechamber.com/events/details/folk-flowers-painting-11395
END:VEVENT

END:VCALENDAR
