BEGIN:VCALENDAR
VERSION:2.0
PRODID:-//ChamberMaster//Event Calendar 2.0//EN
METHOD:PUBLISH
X-PUBLISHED-TTL:P3D
REFRESH-INTERVAL:P3D
CALSCALE:GREGORIAN
BEGIN:VEVENT
DTSTART:20210202T210000Z
DTEND:20210202T221500Z
X-MICROSOFT-CDO-ALLDAYEVENT:FALSE
SUMMARY:Folk Art Lovebird Illustration Workshop
DESCRIPTION:Using illustration basics\, each student will be shown step-by-step how to create a book-style lovebird. The technique can then be applied to all kinds of animals. Instructor Rio Davies Tuesday\, February 2nd 4:00 pm   5:15 pm Ages 15+ $30 supplies included
X-ALT-DESC;FMTTYPE=text/html:Using illustration basics\, each student will be shown step-by-step how to create a book-style lovebird. The technique can then be applied to all kinds of animals. Instructor Rio Davies Tuesday\, February 2nd 4:00 pm &ndash\; 5:15 pm Ages 15+ $30 supplies included
LOCATION:Colquitt County Arts Center 401 7th Avenue S.W. Moultrie\, GA 31768
UID:e.570.11283
SEQUENCE:3
DTSTAMP:20260424T124444Z
URL:http://business.moultriechamber.com/events/details/folk-art-lovebird-illustration-workshop-11283
END:VEVENT

END:VCALENDAR
