BEGIN:VCALENDAR
VERSION:2.0
PRODID:-//ChamberMaster//Event Calendar 2.0//EN
METHOD:PUBLISH
X-PUBLISHED-TTL:P3D
REFRESH-INTERVAL:P3D
CALSCALE:GREGORIAN
BEGIN:VEVENT
DTSTART:20220711T223000Z
DTEND:20220711T233000Z
X-MICROSOFT-CDO-ALLDAYEVENT:FALSE
SUMMARY:Flow Yoga
DESCRIPTION:Flow yoga is a faster paced yoga where poses flow into one another using and focusing on the breath as a guide. Flow yoga gets your heart rate up just a little\, increases strength\, flexibility\, balance\, confidence\, and the mind-body connection. Beginners welcome.
X-ALT-DESC;FMTTYPE=text/html:Flow yoga is a faster paced yoga where poses flow into one another using and focusing on the breath as a guide. Flow yoga gets your heart rate up just a little\, increases strength\, flexibility\, balance\, confidence\, and the mind-body connection. Beginners welcome.
LOCATION:Indigo Studio 128 S Main St. Moultrie\, GA
UID:e.570.12957
SEQUENCE:3
DTSTAMP:20260423T155255Z
URL:http://business.moultriechamber.com/events/details/flow-yoga-07-11-2022-12957
END:VEVENT

END:VCALENDAR
