BEGIN:VCALENDAR
VERSION:2.0
PRODID:-//ChamberMaster//Event Calendar 2.0//EN
METHOD:PUBLISH
X-PUBLISHED-TTL:P3D
REFRESH-INTERVAL:P3D
CALSCALE:GREGORIAN
BEGIN:VEVENT
DTSTART:20220509T223000Z
DTEND:20220509T233000Z
X-MICROSOFT-CDO-ALLDAYEVENT:FALSE
SUMMARY:Flow Yoga
DESCRIPTION:Flow Yoga
X-ALT-DESC;FMTTYPE=text/html:Flow Yoga
LOCATION:Indigo Studio 128 S. Main St.
UID:e.570.12704
SEQUENCE:3
DTSTAMP:20260423T181840Z
URL:http://business.moultriechamber.com/events/details/flow-yoga-05-09-2022-12704
END:VEVENT

END:VCALENDAR
