BEGIN:VCALENDAR
VERSION:2.0
PRODID:-//ChamberMaster//Event Calendar 2.0//EN
METHOD:PUBLISH
X-PUBLISHED-TTL:P3D
REFRESH-INTERVAL:P3D
CALSCALE:GREGORIAN
BEGIN:VEVENT
DTSTART:20220409T140000Z
DTEND:20220409T150000Z
X-MICROSOFT-CDO-ALLDAYEVENT:FALSE
SUMMARY:Flow Yoga
DESCRIPTION:Flow Yoga - beginners welcome
X-ALT-DESC;FMTTYPE=text/html:Flow Yoga - beginners welcome
LOCATION:Indigo Studio 128 S. Main St.
UID:e.570.12102
SEQUENCE:3
DTSTAMP:20260423T204852Z
URL:http://business.moultriechamber.com/events/details/flow-yoga-04-09-2022-12102
END:VEVENT

END:VCALENDAR
