BEGIN:VCALENDAR
VERSION:2.0
PRODID:-//ChamberMaster//Event Calendar 2.0//EN
METHOD:PUBLISH
X-PUBLISHED-TTL:P3D
REFRESH-INTERVAL:P3D
CALSCALE:GREGORIAN
BEGIN:VEVENT
DTSTART:20190812T213000Z
DTEND:20190812T230000Z
X-MICROSOFT-CDO-ALLDAYEVENT:FALSE
SUMMARY:Flat Stanley Auditions
DESCRIPTION:Auditions open to Children's- K-5th Monday\, August 12th 5:30 pm   7:00 pm Performances: October 3rd\, 5th & 6th School Performances: Friday\, October 4th Director: Mimi Bair Stanley Lambchop is your ordinary\, everyday ten-year-old until the bulletin board on the wall above his bed comes loose and falls right on top of him. The next morning\, Stanley wakes up flat. In a whirlwind musical travelogue\, Stanley   the ultimate exchange student   scours the globe for a solution to his unusual problem. He's stamped\, posted and cancelled from Hollywood and France to Honolulu and beyond\, all in an effort to become a three-dimensional boy once more.
X-ALT-DESC;FMTTYPE=text/html:Auditions open to Children&rsquo\;s- K-5th Monday\, August 12th 5:30 pm &ndash\; 7:00 pm Performances: October 3rd\, 5th &amp\; 6th School Performances: Friday\, October 4th Director: Mimi Bair Stanley Lambchop is your ordinary\, everyday ten-year-old until the bulletin board on the wall above his bed comes loose and falls right on top of him. The next morning\, Stanley wakes up flat. In a whirlwind musical travelogue\, Stanley &mdash\; the ultimate exchange student &mdash\; scours the globe for a solution to his unusual problem. He&rsquo\;s stamped\, posted and cancelled from Hollywood and France to Honolulu and beyond\, all in an effort to become a three-dimensional boy once more.
LOCATION:Arts Center 401 7th Ave. SW Moultrie\, GA
UID:e.570.9591
SEQUENCE:3
DTSTAMP:20260425T124638Z
URL:http://business.moultriechamber.com/events/details/flat-stanley-auditions-9591
END:VEVENT

END:VCALENDAR
