BEGIN:VCALENDAR
VERSION:2.0
PRODID:-//ChamberMaster//Event Calendar 2.0//EN
METHOD:PUBLISH
X-PUBLISHED-TTL:P3D
REFRESH-INTERVAL:P3D
CALSCALE:GREGORIAN
BEGIN:VEVENT
DTSTART:20180928T200000Z
DTEND:20180928T210000Z
X-MICROSOFT-CDO-ALLDAYEVENT:FALSE
SUMMARY:Flamenco Dancer Julie Moon
DESCRIPTION:Dance\, stomp\, sing\, and shout as we experience Flamenco with Julie Moon.
X-ALT-DESC;FMTTYPE=text/html:Dance\, stomp\, sing\, and shout as we experience Flamenco with Julie Moon.
LOCATION:Ryce Community Center\, 305 7th St NW\, Moultrie\, GA
UID:e.570.9401
SEQUENCE:3
DTSTAMP:20260426T021129Z
URL:http://business.moultriechamber.com/events/details/flamenco-dancer-julie-moon-09-28-2018-9401
END:VEVENT

END:VCALENDAR
