BEGIN:VCALENDAR
VERSION:2.0
PRODID:-//ChamberMaster//Event Calendar 2.0//EN
METHOD:PUBLISH
X-PUBLISHED-TTL:P3D
REFRESH-INTERVAL:P3D
CALSCALE:GREGORIAN
BEGIN:VEVENT
DTSTART;VALUE=DATE:20210712
DTEND;VALUE=DATE:20210717
TRANSP:TRANSPARENT
X-MICROSOFT-CDO-ALLDAYEVENT:TRUE
SUMMARY:Flag Football Camp at The YMCA
DESCRIPTION:Kids get experience in playing every position while learning the offensive and defensive basics. These skills include but are not limited to catching\, passing and pursuing the flag.\n\n\n	Campers encouraged to bring a water bottle
X-ALT-DESC;FMTTYPE=text/html:<p>Kids get experience in playing every position while learning the offensive and defensive basics. These skills include but are not limited to catching\, passing and pursuing the flag.</p>\n\n<ul>\n	<li>Campers encouraged to bring a water bottle</li>\n</ul>\n
LOCATION:Moultrie YMCA
UID:e.570.11464
SEQUENCE:3
DTSTAMP:20260424T065810Z
URL:http://business.moultriechamber.com/events/details/flag-football-camp-at-the-ymca-11464
END:VEVENT

END:VCALENDAR
