BEGIN:VCALENDAR
VERSION:2.0
PRODID:-//ChamberMaster//Event Calendar 2.0//EN
METHOD:PUBLISH
X-PUBLISHED-TTL:P3D
REFRESH-INTERVAL:P3D
CALSCALE:GREGORIAN
BEGIN:VEVENT
DTSTART:20201106T160000Z
DTEND:20201106T190000Z
X-MICROSOFT-CDO-ALLDAYEVENT:FALSE
SUMMARY:Fish Fry Lunch Raffle
DESCRIPTION:The Moultrie Police Department's annual Boys and Girls Club benefit will be held on November 6th. This year the MPD has chosen to do a Fish Fry Lunch & Raffle! Lunch plate tickets are $10 each\, which will include a lunch plate and one door prize entry. You can pick up lunch on November 6th\, 11 AM - 2 PM. Delivery is available for large orders. Raffle tickets will cost $10 each or 3/$25. (You do not need to be present to win a door prize or raffle prize.) Raffle prizes include a Calcutta 11 LT Renegade Cooler\, Savage Axis Compact Rifle with Weaver 3x9x40 Scope\, and a 12 ft Pelican Intruder Jon Boat with Minn Kota Endura Transom Mount Trolling Motor. Tickets can be purchased at the Police Department (128 1st Street SW)\, Monday - Friday 8:00 AM - 5:00 PM. Lunch tickets will be sold until 5 PM on October 30th. Raffle tickets will be sold until 2 PM on November 6th. *Please note- this is a drive-thru event. For more information\, call 229-985-3131. Thank you to Market Seafood\, Fuller's Fried Chicken\, Market Barbecue\, Raceway\, Larry's Bait & Tackle\, and American Pawn for sponsoring this event!
X-ALT-DESC;FMTTYPE=text/html:The Moultrie Police Department&#39\;s annual Boys and Girls Club benefit will be held on November 6th. This year the MPD has chosen to do a Fish Fry Lunch &amp\; Raffle! Lunch plate tickets are $10 each\, which will include a lunch plate and one door prize entry. You can pick up lunch on November 6th\, 11 AM - 2 PM. Delivery is available for large orders. Raffle tickets will cost $10 each or 3/$25. (You do not need to be present to win a door prize or raffle prize.) Raffle prizes include a Calcutta 11 LT Renegade Cooler\, Savage Axis Compact Rifle with Weaver 3x9x40 Scope\, and a 12 ft Pelican Intruder Jon Boat with Minn Kota Endura Transom Mount Trolling Motor. Tickets can be purchased at the Police Department (128 1st Street SW)\, Monday - Friday 8:00 AM - 5:00 PM. Lunch tickets will be sold until 5 PM on October 30th. Raffle tickets will be sold until 2 PM on November 6th. *Please note- this is a drive-thru event. For more information\, call 229-985-3131. Thank you to Market Seafood\, Fuller&#39\;s Fried Chicken\, Market Barbecue\, Raceway\, Larry&#39\;s Bait &amp\; Tackle\, and American Pawn for sponsoring this event!
LOCATION:Moultrie Police Department
UID:e.570.11197
SEQUENCE:3
DTSTAMP:20260424T164537Z
URL:http://business.moultriechamber.com/events/details/fish-fry-lunch-raffle-11197
END:VEVENT

END:VCALENDAR
