BEGIN:VCALENDAR
VERSION:2.0
PRODID:-//ChamberMaster//Event Calendar 2.0//EN
METHOD:PUBLISH
X-PUBLISHED-TTL:P3D
REFRESH-INTERVAL:P3D
CALSCALE:GREGORIAN
BEGIN:VEVENT
DTSTART:20200203T233000Z
DTEND:20200204T023000Z
X-MICROSOFT-CDO-ALLDAYEVENT:FALSE
SUMMARY:Field & Vine
DESCRIPTION:A ladies only evening of wine\, pairings\, and a special preview of the wildlife works by Vivian Jendzio. Presented by the Volunteer Arts Alliance to benefit the Colquitt County Arts Center.
X-ALT-DESC;FMTTYPE=text/html:A ladies only evening of wine\, pairings\, and a special preview of the wildlife works by Vivian Jendzio. P<span style="font-family:calibri\,sans-serif\;"><span style="font-size:11.0pt\;">resented by the Volunteer Arts Alliance to benefit the Colquitt County Arts Center.</span></span>
LOCATION:Colquitt County Arts Center
UID:e.570.10946
SEQUENCE:3
DTSTAMP:20260425T040349Z
URL:http://business.moultriechamber.com/events/details/field-vine-10946
END:VEVENT

END:VCALENDAR
