BEGIN:VCALENDAR
VERSION:2.0
PRODID:-//ChamberMaster//Event Calendar 2.0//EN
METHOD:PUBLISH
X-PUBLISHED-TTL:P3D
REFRESH-INTERVAL:P3D
CALSCALE:GREGORIAN
BEGIN:VEVENT
DTSTART:20190725T114500Z
DTEND:20190725T160000Z
X-MICROSOFT-CDO-ALLDAYEVENT:FALSE
SUMMARY:Field Day @ Sunbelt Expo
DESCRIPTION:Join us for a morning in the field learning about the latest research and technology being conducted by University researchers and others in the industry. Chat with other vendors over breakfast and during lunch. For more details\, visit www.sunbeltagexpo.com.
X-ALT-DESC;FMTTYPE=text/html:Join us for a morning in the field learning about the latest research and technology being conducted by University researchers and others in the industry. Chat with other vendors over breakfast and during lunch. For more details\, visit www.sunbeltagexpo.com.
LOCATION:Spence Field
UID:e.570.9574
SEQUENCE:3
DTSTAMP:20260425T125328Z
URL:http://business.moultriechamber.com/events/details/field-day-sunbelt-expo-9574
END:VEVENT

END:VCALENDAR
