BEGIN:VCALENDAR
VERSION:2.0
PRODID:-//ChamberMaster//Event Calendar 2.0//EN
METHOD:PUBLISH
X-PUBLISHED-TTL:P3D
REFRESH-INTERVAL:P3D
CALSCALE:GREGORIAN
BEGIN:VEVENT
DTSTART:20210617T140000Z
DTEND:20210617T160000Z
X-MICROSOFT-CDO-ALLDAYEVENT:FALSE
SUMMARY:Fiddlin' Dan
DESCRIPTION:Tails and Tales Stories and Songs for Young Audiences
X-ALT-DESC;FMTTYPE=text/html:Tails and Tales Stories and Songs for Young Audiences
LOCATION:Main Street Park
UID:e.570.11437
SEQUENCE:3
DTSTAMP:20260424T074922Z
URL:http://business.moultriechamber.com/events/details/fiddlin-dan-11437
END:VEVENT

END:VCALENDAR
