BEGIN:VCALENDAR
VERSION:2.0
PRODID:-//ChamberMaster//Event Calendar 2.0//EN
METHOD:PUBLISH
X-PUBLISHED-TTL:P3D
REFRESH-INTERVAL:P3D
CALSCALE:GREGORIAN
BEGIN:VEVENT
DTSTART:20201206T190000Z
DTEND:20201206T210000Z
X-MICROSOFT-CDO-ALLDAYEVENT:FALSE
SUMMARY:Festive Frosting Christmas Trees
DESCRIPTION:Come put your own personal spin on your own mini (100% edible) Christmas tree.
X-ALT-DESC;FMTTYPE=text/html:Come put your own personal spin on your own mini (100% edible) Christmas tree.
LOCATION:Main Street Park
UID:e.570.11254
SEQUENCE:3
DTSTAMP:20260424T152221Z
URL:http://business.moultriechamber.com/events/details/festive-frosting-christmas-trees-11254
END:VEVENT

END:VCALENDAR
