BEGIN:VCALENDAR
VERSION:2.0
PRODID:-//ChamberMaster//Event Calendar 2.0//EN
METHOD:PUBLISH
X-PUBLISHED-TTL:P3D
REFRESH-INTERVAL:P3D
CALSCALE:GREGORIAN
BEGIN:VEVENT
DTSTART:20181106T230000Z
DTEND:20181107T000000Z
X-MICROSOFT-CDO-ALLDAYEVENT:FALSE
SUMMARY:Fashioning the Holidays
DESCRIPTION:Celebrate the holidays with a series of workshops including card making\, ornaments\, small gifts and yummies! Instructor Connie Fritz
X-ALT-DESC;FMTTYPE=text/html:Celebrate the holidays with a series of workshops including card making\, ornaments\, small gifts and yummies! Instructor Connie Fritz
LOCATION:Colquitt County Arts Center\, 401 7th Avenue S.W.\, Moultrie\, GA 31768
UID:e.570.9426
SEQUENCE:3
DTSTAMP:20260425T233734Z
URL:http://business.moultriechamber.com/events/details/fashioning-the-holidays-9426
END:VEVENT

END:VCALENDAR
