BEGIN:VCALENDAR
VERSION:2.0
PRODID:-//ChamberMaster//Event Calendar 2.0//EN
METHOD:PUBLISH
X-PUBLISHED-TTL:P3D
REFRESH-INTERVAL:P3D
CALSCALE:GREGORIAN
BEGIN:VEVENT
DTSTART:20210416T200000Z
DTEND:20210416T210000Z
X-MICROSOFT-CDO-ALLDAYEVENT:FALSE
SUMMARY:Fancy Handwriting Class
DESCRIPTION:The art of hand lettering is fun to learn and can be used in so many ways. This class will cover various styles and methods of lettering by hand. Instructor Rio Davies Friday\, April 16th 4:00 pm   5:00 pm Ages 10+ $40 Supplies Provided
X-ALT-DESC;FMTTYPE=text/html:The art of hand lettering is fun to learn and can be used in so many ways. This class will cover various styles and methods of lettering by hand. Instructor Rio Davies Friday\, April 16th 4:00 pm &ndash\; 5:00 pm Ages 10+ $40 Supplies Provided
LOCATION:Colquitt County Arts Center 401 7th Avenue S.W. Moultrie\, GA 31768
UID:e.570.11349
SEQUENCE:3
DTSTAMP:20260424T102618Z
URL:http://business.moultriechamber.com/events/details/fancy-handwriting-class-11349
END:VEVENT

END:VCALENDAR
