BEGIN:VCALENDAR
VERSION:2.0
PRODID:-//ChamberMaster//Event Calendar 2.0//EN
METHOD:PUBLISH
X-PUBLISHED-TTL:P3D
REFRESH-INTERVAL:P3D
CALSCALE:GREGORIAN
BEGIN:VEVENT
DTSTART:20180720T180000Z
DTEND:20180720T190000Z
X-MICROSOFT-CDO-ALLDAYEVENT:FALSE
SUMMARY:Family Bingo
DESCRIPTION:Play Bingo Win Prizes!
X-ALT-DESC;FMTTYPE=text/html:Play Bingo Win Prizes!
LOCATION:Moultrie Library\, 225 S. Main St\, Moultrie (Temporary Location
UID:e.570.9334
SEQUENCE:3
DTSTAMP:20260426T043511Z
URL:http://business.moultriechamber.com/events/details/family-bingo-07-20-2018-9334
END:VEVENT

END:VCALENDAR
