BEGIN:VCALENDAR
VERSION:2.0
PRODID:-//ChamberMaster//Event Calendar 2.0//EN
METHOD:PUBLISH
X-PUBLISHED-TTL:P3D
REFRESH-INTERVAL:P3D
CALSCALE:GREGORIAN
BEGIN:VEVENT
DTSTART;VALUE=DATE:20190901
DTEND;VALUE=DATE:20190914
TRANSP:TRANSPARENT
X-MICROSOFT-CDO-ALLDAYEVENT:TRUE
SUMMARY:Fall Softball Registration
DESCRIPTION:Ages 7-12 Cost $50.00 Live Arm/Coach Pitch Register online or in office
X-ALT-DESC;FMTTYPE=text/html:Ages 7-12 Cost $50.00 Live Arm/Coach Pitch Register online or in office
LOCATION:1020 4th Street SW Moultrie\, Ga 31768
UID:e.570.9625
SEQUENCE:3
DTSTAMP:20260425T114012Z
URL:http://business.moultriechamber.com/events/details/fall-softball-registration-09-01-2019-9625
END:VEVENT

END:VCALENDAR
