BEGIN:VCALENDAR
VERSION:2.0
PRODID:-//ChamberMaster//Event Calendar 2.0//EN
METHOD:PUBLISH
X-PUBLISHED-TTL:P3D
REFRESH-INTERVAL:P3D
CALSCALE:GREGORIAN
BEGIN:VEVENT
DTSTART:20201114T150000Z
DTEND:20201114T230000Z
X-MICROSOFT-CDO-ALLDAYEVENT:FALSE
SUMMARY:Fall Sidewalk Sale
DESCRIPTION:It's almost time for the Fall Sidewalk Sale in Downtown Moultrie! Take a stroll around beautiful Downtown Moultrie\, and visit with participating merchants to find the best deals on clothing\, shoes\, jewelry\, accessories\, home goods\, and more!
X-ALT-DESC;FMTTYPE=text/html:It&#39\;s almost time for the Fall Sidewalk Sale in Downtown Moultrie! Take a stroll around beautiful Downtown Moultrie\, and visit with participating merchants to find the best deals on clothing\, shoes\, jewelry\, accessories\, home goods\, and more!
LOCATION:Downtown Moultrie
UID:e.570.11243
SEQUENCE:3
DTSTAMP:20260424T163143Z
URL:http://business.moultriechamber.com/events/details/fall-sidewalk-sale-11-14-2020-11243
END:VEVENT

END:VCALENDAR
