BEGIN:VCALENDAR
VERSION:2.0
PRODID:-//ChamberMaster//Event Calendar 2.0//EN
METHOD:PUBLISH
X-PUBLISHED-TTL:P3D
REFRESH-INTERVAL:P3D
CALSCALE:GREGORIAN
BEGIN:VEVENT
DTSTART:20201118T220000Z
DTEND:20201118T233000Z
X-MICROSOFT-CDO-ALLDAYEVENT:FALSE
SUMMARY:Fall Front Porch Greeter
DESCRIPTION:Wednesday\, November 18 5:00 pm   6:30 pm All ages $40 Instructor Rio Davies Sign up online: https://colquittcountyarts.com/monthly-workshop-registration/ Follow along with step-by-step instructions on how to create this adorable fall themed front porch greeter. Enjoy it all season long as you and your loved ones enter your home. This wooden charm is a quick and fun way to decorate and also makes a great gift.
X-ALT-DESC;FMTTYPE=text/html:Wednesday\, November 18 5:00 pm &ndash\; 6:30 pm All ages $40 Instructor Rio Davies Sign up online: https://colquittcountyarts.com/monthly-workshop-registration/ Follow along with step-by-step instructions on how to create this adorable fall themed front porch greeter. Enjoy it all season long as you and your loved ones enter your home. This wooden charm is a quick and fun way to decorate and also makes a great gift.
LOCATION:Colquitt County Arts Center 401 7th Avenue S.W. Moultrie\, GA 31768
UID:e.570.11227
SEQUENCE:3
DTSTAMP:20260424T162758Z
URL:http://business.moultriechamber.com/events/details/fall-front-porch-greeter-11227
END:VEVENT

END:VCALENDAR
