BEGIN:VCALENDAR
VERSION:2.0
PRODID:-//ChamberMaster//Event Calendar 2.0//EN
METHOD:PUBLISH
X-PUBLISHED-TTL:P3D
REFRESH-INTERVAL:P3D
CALSCALE:GREGORIAN
BEGIN:VEVENT
DTSTART:20190124T230000Z
DTEND:20190125T003000Z
X-MICROSOFT-CDO-ALLDAYEVENT:FALSE
SUMMARY:EMPTY BOWL SOUP SUPPER
DESCRIPTION:2nd Annual Empty Bowl Soup Supper to benefit the Colquitt County Food Bank.
X-ALT-DESC;FMTTYPE=text/html:2nd Annual Empty Bowl Soup Supper to benefit the Colquitt County Food Bank.
LOCATION:Colquitt County Arts Center
UID:e.570.9008
SEQUENCE:3
DTSTAMP:20260425T215918Z
URL:http://business.moultriechamber.com/events/details/empty-bowl-soup-supper-9008
END:VEVENT

END:VCALENDAR
