BEGIN:VCALENDAR
VERSION:2.0
PRODID:-//ChamberMaster//Event Calendar 2.0//EN
METHOD:PUBLISH
X-PUBLISHED-TTL:P3D
REFRESH-INTERVAL:P3D
CALSCALE:GREGORIAN
BEGIN:VEVENT
DTSTART:20200223T160000Z
DTEND:20200223T190000Z
X-MICROSOFT-CDO-ALLDAYEVENT:FALSE
SUMMARY:Empty Bowl Soup Lunch
DESCRIPTION:Support the Colquitt County Food Bank. Buy a ticket\, choose a bowl painted by someone in the community and enjoy all you can eat soup. Your bowl is a reminder that you helped fill an empty bowl for someone else in need.
X-ALT-DESC;FMTTYPE=text/html:Support the Colquitt County Food Bank. Buy a ticket\, choose a bowl painted by someone in the community and enjoy all you can eat soup. Your bowl is a reminder that you helped fill an empty bowl for someone else in need.
LOCATION:Colquitt County Arts Center
UID:e.570.11143
SEQUENCE:3
DTSTAMP:20260425T035854Z
URL:http://business.moultriechamber.com/events/details/empty-bowl-soup-lunch-11143
END:VEVENT

END:VCALENDAR
