BEGIN:VCALENDAR
VERSION:2.0
PRODID:-//ChamberMaster//Event Calendar 2.0//EN
METHOD:PUBLISH
X-PUBLISHED-TTL:P3D
REFRESH-INTERVAL:P3D
CALSCALE:GREGORIAN
BEGIN:VEVENT
DTSTART:20201212T190000Z
DTEND:20201213T203000Z
X-MICROSOFT-CDO-ALLDAYEVENT:FALSE
SUMMARY:ELF\, Jr. The Musical
DESCRIPTION:ELF\, Jr. The Musical December 10th & 11th       7:00 pm - 8:30 pm December 12th & 13th       2:00 pm - 3:30 pm Ticket Price $8 Strict Limit of 100 tickets will be sold for each performance Performed by students in grades K-12 Based on the beloved holiday film\, this hilarious fish-out-of-water comedy follows Buddy the Elf in his quest to find his true identity. Buddy\, a young orphan\, mistakenly crawls into Santa's bag of gifts and is transported to the North Pole. The would-be elf is raised\, unaware that he is actually a human\, until his enormous size and poor toy-making abilities cause him to face the truth. With Santa's permission\, Buddy embarks on a journey to New York City to find his birth father and discover his true identity. Faced with the harsh reality that his father is on the naughty list and that his half-brother doesn't even believe in Santa\, Buddy is determined to win over his new family and help New York remember the true meaning of Christmas. Book by Music by Lyrics by THOMAS MEEHAN and BOB MARTIN MATTHEW SKLAR CHAD BEGUELIN Based upon the New Line Cinema film written by David Berenbaum Elf The Musical JR. Is presented through special arrangement with Music Theatre International (MTI). All authorized performance materials are also supplied by MTI. www.mtishows.com
X-ALT-DESC;FMTTYPE=text/html:ELF\, Jr. The Musical December 10th &amp\; 11th&nbsp\; &nbsp\; &nbsp\; &nbsp\;7:00 pm - 8:30 pm December 12th &amp\; 13th&nbsp\; &nbsp\; &nbsp\;&nbsp\; 2:00 pm - 3:30 pm Ticket Price $8 Strict Limit of 100 tickets will be sold for each performance Performed by students in grades K-12 Based on the beloved holiday film\, this hilarious fish-out-of-water comedy follows Buddy the&nbsp\;Elf&nbsp\;in his quest to find his true identity. Buddy\, a young orphan\, mistakenly crawls into Santa&#39\;s bag of gifts and is transported to the North Pole. The would-be&nbsp\;elf&nbsp\;is raised\, unaware that he is actually a human\, until his enormous size and poor toy-making abilities cause him to face the truth. With Santa&#39\;s permission\, Buddy embarks on a journey to New York City to find his birth father and discover his true identity. Faced with the harsh reality that his father is on the naughty list and that his half-brother doesn&#39\;t even believe in Santa\, Buddy is determined to win over his new family and help New York remember the true meaning of Christmas. Book by Music by Lyrics by THOMAS MEEHAN and BOB MARTIN MATTHEW SKLAR CHAD BEGUELIN Based upon the New Line Cinema film written by David Berenbaum Elf The Musical JR. Is presented through special arrangement with Music Theatre International (MTI). All authorized performance materials are also supplied by MTI.&nbsp\;www.mtishows.com
LOCATION:Colquitt County Arts Center 401 7th Avenue S.W. Moultrie\, GA 31768
UID:e.570.11233
SEQUENCE:3
DTSTAMP:20260424T152237Z
URL:http://business.moultriechamber.com/events/details/elf-jr-the-musical-12-12-2020-11233
END:VEVENT

END:VCALENDAR
