BEGIN:VCALENDAR
VERSION:2.0
PRODID:-//ChamberMaster//Event Calendar 2.0//EN
METHOD:PUBLISH
X-PUBLISHED-TTL:P3D
REFRESH-INTERVAL:P3D
CALSCALE:GREGORIAN
BEGIN:VEVENT
DTSTART:20200831T203000Z
DTEND:20200831T233000Z
X-MICROSOFT-CDO-ALLDAYEVENT:FALSE
SUMMARY:Elf Jr Auditions
DESCRIPTION:***Temperatures will be taken and masks are required.*** If a student is unable to attend auditions but would like to register for the classes they can do so any time prior to August 31st . Registration for classes will close following auditions. ELF\, Jr. plans to take the stage on December 10th -13th Based on the beloved holiday film\, this hilarious fish-out-of-water comedy follows Buddy the Elf in his quest to find his true identity. Buddy\, a young orphan\, mistakenly crawls into Santa's bag of gifts and is transported to the North Pole. The would-be elf is raised\, unaware that he is actually a human\, until his enormous size and poor toy-making abilities cause him to face the truth. With Santa's permission\, Buddy embarks on a journey to New York City to find his birth father and discover his true identity. Faced with the harsh reality that his father is on the naughty list and that his half-brother doesn't even believe in Santa\, Buddy is determined to win over his new family and help New York remember the true meaning of Christmas.
X-ALT-DESC;FMTTYPE=text/html:***Temperatures will be taken and masks are required.*** If a student is unable to attend auditions but would like to register for the classes they can do so any time prior to August 31st . Registration for classes will close following auditions. ELF\, Jr. plans to take the stage on December 10th -13th Based on the beloved holiday film\, this hilarious fish-out-of-water comedy follows Buddy the Elf in his quest to find his true identity. Buddy\, a young orphan\, mistakenly crawls into Santa&rsquo\;s bag of gifts and is transported to the North Pole. The would-be elf is raised\, unaware that he is actually a human\, until his enormous size and poor toy-making abilities cause him to face the truth. With Santa&rsquo\;s permission\, Buddy embarks on a journey to New York City to find his birth father and discover his true identity. Faced with the harsh reality that his father is on the naughty list and that his half-brother doesn&rsquo\;t even believe in Santa\, Buddy is determined to win over his new family and help New York remember the true meaning of Christmas.
LOCATION:Colquitt County Arts Center 401 7th Avenue S.W. Moultrie\, GA 31768
UID:e.570.11179
SEQUENCE:3
DTSTAMP:20260424T200530Z
URL:http://business.moultriechamber.com/events/details/elf-jr-auditions-11179
END:VEVENT

END:VCALENDAR
