BEGIN:VCALENDAR
VERSION:2.0
PRODID:-//ChamberMaster//Event Calendar 2.0//EN
METHOD:PUBLISH
X-PUBLISHED-TTL:P3D
REFRESH-INTERVAL:P3D
CALSCALE:GREGORIAN
BEGIN:VEVENT
DTSTART:20201022T200000Z
DTEND:20201022T220000Z
X-MICROSOFT-CDO-ALLDAYEVENT:FALSE
SUMMARY:Egg-Tober
DESCRIPTION:Halloween is going to look a little different this year. Come join us in some LOW-CONTACT Halloween fun! MCCPRA will be holding a drive through Egg-Tober Oct. 22 from 4 pm until we run out of supplies. The pick up location will be at the MCCPRA office (1020 4th ST SW). The child/children must be present at the time of pick up and all participants MUST remain in the vehicle.
X-ALT-DESC;FMTTYPE=text/html:Halloween is going to look a little different this year. Come join us in some LOW-CONTACT Halloween fun! MCCPRA will be holding a drive through Egg-Tober Oct. 22 from 4 pm until we run out of supplies. The pick up location will be at the MCCPRA office (1020 4th ST SW). The child/children must be present at the time of pick up and all participants MUST remain in the vehicle.
LOCATION:1020 4th St SE
UID:e.570.11203
SEQUENCE:3
DTSTAMP:20260424T174816Z
URL:http://business.moultriechamber.com/events/details/egg-tober-11203
END:VEVENT

END:VCALENDAR
