BEGIN:VCALENDAR
VERSION:2.0
PRODID:-//ChamberMaster//Event Calendar 2.0//EN
METHOD:PUBLISH
X-PUBLISHED-TTL:P3D
REFRESH-INTERVAL:P3D
CALSCALE:GREGORIAN
BEGIN:VEVENT
DTSTART:20220417T143000Z
DTEND:20220417T154500Z
X-MICROSOFT-CDO-ALLDAYEVENT:FALSE
SUMMARY:Easter Worship Service
DESCRIPTION:Join us for Easter services at First Baptist Church Moultrie! Two service options - 9:00am & 10:30am.
X-ALT-DESC;FMTTYPE=text/html:Join us for Easter services at First Baptist Church Moultrie! Two service options - 9:00am &amp\; 10:30am.
LOCATION:First Baptist Church Moultrie 400 S Main Street\, Moultrie
UID:e.570.12075
SEQUENCE:3
DTSTAMP:20260423T204046Z
URL:http://business.moultriechamber.com/events/details/easter-worship-service-04-17-2022-12075
END:VEVENT

END:VCALENDAR
