BEGIN:VCALENDAR
VERSION:2.0
PRODID:-//ChamberMaster//Event Calendar 2.0//EN
METHOD:PUBLISH
X-PUBLISHED-TTL:P3D
REFRESH-INTERVAL:P3D
CALSCALE:GREGORIAN
BEGIN:VEVENT
DTSTART:20220402T140000Z
DTEND:20220402T160000Z
X-MICROSOFT-CDO-ALLDAYEVENT:FALSE
SUMMARY:Easter Egg Hunt
DESCRIPTION:Easter Egg Hunt Games Face Painting & More
X-ALT-DESC;FMTTYPE=text/html:Easter Egg Hunt Games Face Painting &amp\; More
LOCATION:Main Street Park
UID:e.570.12018
SEQUENCE:3
DTSTAMP:20260423T193551Z
URL:http://business.moultriechamber.com/events/details/easter-egg-hunt-12018
END:VEVENT

END:VCALENDAR
