BEGIN:VCALENDAR
VERSION:2.0
PRODID:-//ChamberMaster//Event Calendar 2.0//EN
METHOD:PUBLISH
X-PUBLISHED-TTL:P3D
REFRESH-INTERVAL:P3D
CALSCALE:GREGORIAN
BEGIN:VEVENT
DTSTART:20181221T190000Z
DTEND:20181221T210000Z
X-MICROSOFT-CDO-ALLDAYEVENT:FALSE
SUMMARY:Dreamworks Christmas Movie Marathon
DESCRIPTION:Join your favorite DreamWorks friends for these holiday specials. Watch as those zany zoosters from Madagascar save Christmas\; Donkey puts on a caroling Christmas Shrek-tacular\; and Po prepares for his favorite holiday\, the Winter Feast.
X-ALT-DESC;FMTTYPE=text/html:Join your favorite DreamWorks friends for these holiday specials. Watch as those zany zoosters from Madagascar save Christmas\; Donkey puts on a caroling Christmas Shrek-tacular\; and Po prepares for his favorite holiday\, the Winter Feast.
LOCATION:Moultrie-Colquitt County Library\, 225 South Main Street
UID:e.570.9472
SEQUENCE:3
DTSTAMP:20260425T233319Z
URL:http://business.moultriechamber.com/events/details/dreamworks-christmas-movie-marathon-9472
END:VEVENT

END:VCALENDAR
