BEGIN:VCALENDAR
VERSION:2.0
PRODID:-//ChamberMaster//Event Calendar 2.0//EN
METHOD:PUBLISH
X-PUBLISHED-TTL:P3D
REFRESH-INTERVAL:P3D
CALSCALE:GREGORIAN
BEGIN:VEVENT
DTSTART:20180723T220000Z
DTEND:20180724T000000Z
X-MICROSOFT-CDO-ALLDAYEVENT:FALSE
SUMMARY:Dreamgirls Auditions
DESCRIPTION:Open to all college age students and up. Come with a prepared song- max 2 minutes and be prepared for a cold reading. A trio of black female soul singers crosses over to the pop charts in the early 1960s\, facing their own personal struggles along the way. A work of fiction taking strong inspiration from the history of the Motown record label and one of its acts\, The Supremes\, the story follows the history and evolution of American R&B music during the 1960s and 1970s through the eyes of a Detroit\, Michigan girl group known as the Dreams and their manipulative record executive.
X-ALT-DESC;FMTTYPE=text/html:Open to all college age students and up. Come with a prepared song- max 2 minutes and be prepared for a cold reading. A trio of black female soul singers crosses over to the pop charts in the early 1960s\, facing their own personal struggles along the way. A work of fiction taking strong inspiration from the history of the Motown record label and one of its acts\, The Supremes\, the story follows the history and evolution of American R&amp\;B music during the 1960s and 1970s through the eyes of a Detroit\, Michigan girl group known as the Dreams and their manipulative record executive.
LOCATION:Colquitt County Arts Center\, 401 7th Avenue S.W.\, Moultrie\, GA 31768
UID:e.570.9282
SEQUENCE:3
DTSTAMP:20260426T043546Z
URL:http://business.moultriechamber.com/events/details/dreamgirls-auditions-9282
END:VEVENT

END:VCALENDAR
