BEGIN:VCALENDAR
VERSION:2.0
PRODID:-//ChamberMaster//Event Calendar 2.0//EN
METHOD:PUBLISH
X-PUBLISHED-TTL:P3D
REFRESH-INTERVAL:P3D
CALSCALE:GREGORIAN
BEGIN:VEVENT
DTSTART:20180723T220000Z
DTEND:20180723T233000Z
X-MICROSOFT-CDO-ALLDAYEVENT:FALSE
SUMMARY:DREAMGIRLS-Auditions
DESCRIPTION:Dreamgirls is a Broadway musical\, with music by Henry Krieger and lyrics and book by Tom Eyen. Based on the show business aspirations and successes of R&B acts such as The Supremes\, The Shirelles\, James Brown\, Jackie Wilson\, and others\, the musical follows the story of a young female singing trio from Chicago\, Illinois called "The Dreams"\, who become music superstars. Staged with a mostly African-American cast\, the musical opened on December 20\, 1981\, at the Imperial Theatre on Broadway. The musical was then nominated for 13 Tony Awards\, including the Tony Award for Best Musical\, and won six. It was later adapted into a motion picture from DreamWorks and Paramount Pictures in 2006. The film starred Jamie Foxx\, Beyonc \, Eddie Murphy\, Jennifer Hudson\, Danny Glover\, Anika Noni Rose\, and Keith Robinson.
X-ALT-DESC;FMTTYPE=text/html:Dreamgirls is a Broadway musical\, with music by Henry Krieger and lyrics and book by Tom Eyen. Based on the show business aspirations and successes of R&amp\;B acts such as The Supremes\, The Shirelles\, James Brown\, Jackie Wilson\, and others\, the musical follows the story of a young female singing trio from Chicago\, Illinois called &quot\;The Dreams&quot\;\, who become music superstars. Staged with a mostly African-American cast\, the musical opened on December 20\, 1981\, at the Imperial Theatre on Broadway. The musical was then nominated for 13 Tony Awards\, including the Tony Award for Best Musical\, and won six. It was later adapted into a motion picture from DreamWorks and Paramount Pictures in 2006. The film starred Jamie Foxx\, Beyonc&eacute\;\, Eddie Murphy\, Jennifer Hudson\, Danny Glover\, Anika Noni Rose\, and Keith Robinson.
LOCATION:Colquitt County Arts Center
UID:e.570.9301
SEQUENCE:3
DTSTAMP:20260426T044014Z
URL:http://business.moultriechamber.com/events/details/dreamgirls-auditions-07-23-2018-9301
END:VEVENT

END:VCALENDAR
