BEGIN:VCALENDAR
VERSION:2.0
PRODID:-//ChamberMaster//Event Calendar 2.0//EN
METHOD:PUBLISH
X-PUBLISHED-TTL:P3D
REFRESH-INTERVAL:P3D
CALSCALE:GREGORIAN
BEGIN:VEVENT
DTSTART:20180921T233000Z
DTEND:20180924T013000Z
X-MICROSOFT-CDO-ALLDAYEVENT:FALSE
SUMMARY:DREAMGIRLS
DESCRIPTION:Detroit\, the early 1960s. Curtis Taylor\, Jr.\, a car salesman\, breaks into the music business with big dreams. He signs a trio of young women\, the Dreamettes\, gets them a job backing an R&B performer\, James "Thunder" Early\, establishes his own record label and starts wheeling and dealing. When Early flames out\, Curtis makes the Dreamettes into headliners as the Dreams\, but not before demoting their hefty big-voiced lead singer\, Effie White\, and putting the softer-voiced looker\, Deena Jones\, in front. Soon after\, he fires Effie\, sends her into a life of proud poverty\, and takes Deena and the Dreams to the top. How long can Curtis stay there\, and will Effie ever get her due?
X-ALT-DESC;FMTTYPE=text/html:Detroit\, the early 1960s. Curtis Taylor\, Jr.\, a car salesman\, breaks into the music business with big dreams. He signs a trio of young women\, the Dreamettes\, gets them a job backing an R&amp\;B performer\, James &quot\;Thunder&quot\; Early\, establishes his own record label and starts wheeling and dealing. When Early flames out\, Curtis makes the Dreamettes into headliners as the Dreams\, but not before demoting their hefty big-voiced lead singer\, Effie White\, and putting the softer-voiced looker\, Deena Jones\, in front. Soon after\, he fires Effie\, sends her into a life of proud poverty\, and takes Deena and the Dreams to the top. How long can Curtis stay there\, and will Effie ever get her due?
LOCATION:Colquitt County Arts Center
UID:e.570.9309
SEQUENCE:3
DTSTAMP:20260426T021035Z
URL:http://business.moultriechamber.com/events/details/dreamgirls-9309
END:VEVENT

END:VCALENDAR
