BEGIN:VCALENDAR
VERSION:2.0
PRODID:-//ChamberMaster//Event Calendar 2.0//EN
METHOD:PUBLISH
X-PUBLISHED-TTL:P3D
REFRESH-INTERVAL:P3D
CALSCALE:GREGORIAN
BEGIN:VEVENT
DTSTART:20201102T213000Z
DTEND:20201102T223000Z
X-MICROSOFT-CDO-ALLDAYEVENT:FALSE
SUMMARY:Drawing Nature Cartoons
DESCRIPTION:Nature Cartoons Monday\, November 2nd Youth (ages 6   15) 4:30 pm   5:30 pm Ages 16+ 5:45 pm   6:45 pm $30 Instructor Rio Davies Explore nature through trees\, plants\, and forest creatures.
X-ALT-DESC;FMTTYPE=text/html:Nature Cartoons Monday\, November 2nd Youth (ages 6 &ndash\; 15) 4:30 pm &ndash\; 5:30 pm Ages 16+ 5:45 pm &ndash\; 6:45 pm $30 Instructor Rio Davies Explore nature through trees\, plants\, and forest creatures.
LOCATION:Colquitt County Arts Center 401 7th Avenue S.W. Moultrie\, GA 31768
UID:e.570.11218
SEQUENCE:3
DTSTAMP:20260424T163826Z
URL:http://business.moultriechamber.com/events/details/drawing-nature-cartoons-11218
END:VEVENT

END:VCALENDAR
