BEGIN:VCALENDAR
VERSION:2.0
PRODID:-//ChamberMaster//Event Calendar 2.0//EN
METHOD:PUBLISH
X-PUBLISHED-TTL:P3D
REFRESH-INTERVAL:P3D
CALSCALE:GREGORIAN
BEGIN:VEVENT
DTSTART:20210610T143000Z
DTEND:20210610T153000Z
X-MICROSOFT-CDO-ALLDAYEVENT:FALSE
SUMMARY:Dr. Magical Balloons
DESCRIPTION:Dr. Magical Balloons Dewayne Reynolds will be our guide as we meet a menagerie of (balloon) animals--both real and imagined--and learn about their habits and habitats. Bring your own chairs/blankets and we'll sit under the big shade tree.
X-ALT-DESC;FMTTYPE=text/html:Dr. Magical Balloons Dewayne Reynolds will be our guide as we meet a menagerie of (balloon) animals--both real and imagined--and learn about their habits and habitats. Bring your own chairs/blankets and we&#39\;ll sit under the big shade tree.
LOCATION:Bert Harsh Park next door to the Moultrie Library @ 204 5th St SE\, Moultrie\, GA 31768.
UID:e.570.11384
SEQUENCE:3
DTSTAMP:20260424T075045Z
URL:http://business.moultriechamber.com/events/details/dr-magical-balloons-11384
END:VEVENT

END:VCALENDAR
