BEGIN:VCALENDAR
VERSION:2.0
PRODID:-//ChamberMaster//Event Calendar 2.0//EN
METHOD:PUBLISH
X-PUBLISHED-TTL:P3D
REFRESH-INTERVAL:P3D
CALSCALE:GREGORIAN
BEGIN:VEVENT
DTSTART:20180913T143000Z
DTEND:20180914T000000Z
X-MICROSOFT-CDO-ALLDAYEVENT:FALSE
SUMMARY:Door Hanger Workshop - Pumpkin
DESCRIPTION:September Door Hanger Design your own pumpkin door hanger to welcome fall. Deadline to register is September 3rd Sign Up at colquittcoutnyarts.com or in the office.
X-ALT-DESC;FMTTYPE=text/html:September Door Hanger Design your own pumpkin door hanger to welcome fall. Deadline to register is September 3rd Sign Up at colquittcoutnyarts.com or in the office.
LOCATION:Colquitt County Arts Center\, 401 7th Avenue S.W.\, Moultrie\, GA 31768
UID:e.570.9407
SEQUENCE:3
DTSTAMP:20260426T020437Z
URL:http://business.moultriechamber.com/events/details/door-hanger-workshop-pumpkin-9407
END:VEVENT

END:VCALENDAR
