BEGIN:VCALENDAR
VERSION:2.0
PRODID:-//ChamberMaster//Event Calendar 2.0//EN
METHOD:PUBLISH
X-PUBLISHED-TTL:P3D
REFRESH-INTERVAL:P3D
CALSCALE:GREGORIAN
BEGIN:VEVENT
DTSTART:20201130T213000Z
DTEND:20201130T223000Z
X-MICROSOFT-CDO-ALLDAYEVENT:FALSE
SUMMARY:Doodling Workshop
DESCRIPTION:Monday\, November 30th 4:30 pm   5:30 pm Ages 15+ $25 Instructor Rio Davies Let your mind be free in this one-hour long workshop where we go over the key skills on how to draw with no worries. In hopes to bring the art of duty or to a larger audience this class is aimed towards those who have had an interest in drawing but didn't know where to begin or maybe have had an interest and would like to expand. Knowing how to approach the blank piece of paper and release your stress and dive into the sketches you create. Sign up online: https://colquittcountyarts.com/monthly-workshop-registration/
X-ALT-DESC;FMTTYPE=text/html:Monday\, November 30th 4:30 pm &ndash\; 5:30 pm Ages 15+ $25 Instructor Rio Davies Let your mind be free in this one-hour long workshop where we go over the key skills on how to draw with no worries. In hopes to bring the art of duty or to a larger audience this class is aimed towards those who have had an interest in drawing but didn&rsquo\;t know where to begin or maybe have had an interest and would like to expand. Knowing how to approach the blank piece of paper and release your stress and dive into the sketches you create. Sign up online: https://colquittcountyarts.com/monthly-workshop-registration/
LOCATION:Colquitt County Arts Center 401 7th Avenue S.W. Moultrie\, GA 31768
UID:e.570.11229
SEQUENCE:3
DTSTAMP:20260424T162759Z
URL:http://business.moultriechamber.com/events/details/doodling-workshop-11229
END:VEVENT

END:VCALENDAR
