BEGIN:VCALENDAR
VERSION:2.0
PRODID:-//ChamberMaster//Event Calendar 2.0//EN
METHOD:PUBLISH
X-PUBLISHED-TTL:P3D
REFRESH-INTERVAL:P3D
CALSCALE:GREGORIAN
BEGIN:VEVENT
DTSTART:20180623T020000Z
DTEND:20180810T213000Z
X-MICROSOFT-CDO-ALLDAYEVENT:FALSE
SUMMARY:Dog Days Exhibit
DESCRIPTION:A beautiful photography exhibit celebrating Mans best Friend!
X-ALT-DESC;FMTTYPE=text/html:A beautiful photography exhibit celebrating Mans best Friend!
LOCATION:Colquitt County Arts Center
UID:e.570.9294
SEQUENCE:3
DTSTAMP:20260426T032222Z
URL:http://business.moultriechamber.com/events/details/dog-days-exhibit-9294
END:VEVENT

END:VCALENDAR
