BEGIN:VCALENDAR
VERSION:2.0
PRODID:-//ChamberMaster//Event Calendar 2.0//EN
METHOD:PUBLISH
X-PUBLISHED-TTL:P3D
REFRESH-INTERVAL:P3D
CALSCALE:GREGORIAN
BEGIN:VEVENT
DTSTART:20240620T200000Z
DTEND:20240620T210000Z
X-MICROSOFT-CDO-ALLDAYEVENT:FALSE
SUMMARY:Doerun Crafternoon
DESCRIPTION:Beat the afternoon heat with a fun craft/activity at the Doerun Library.
X-ALT-DESC;FMTTYPE=text/html:Beat the afternoon heat with a fun craft/activity at the Doerun Library.
LOCATION:Doerun Community Library 185 N Freeman St.\, Doerun GA
UID:e.570.13280
SEQUENCE:3
DTSTAMP:20260422T085404Z
URL:http://business.moultriechamber.com/events/details/doerun-crafternoon-06-20-2024-13280
END:VEVENT

END:VCALENDAR
