BEGIN:VCALENDAR
VERSION:2.0
PRODID:-//ChamberMaster//Event Calendar 2.0//EN
METHOD:PUBLISH
X-PUBLISHED-TTL:P3D
REFRESH-INTERVAL:P3D
CALSCALE:GREGORIAN
BEGIN:VEVENT
DTSTART:20240606T200000Z
DTEND:20240606T210000Z
X-MICROSOFT-CDO-ALLDAYEVENT:FALSE
SUMMARY:Doerun Crafternoon
DESCRIPTION:Beat the afternoon heat with a fun craft/activity at the Doern Library.
X-ALT-DESC;FMTTYPE=text/html:Beat the afternoon heat with a fun craft/activity at the Doern Library.
LOCATION:Doerun Community Library 185 N Freeman St\, Doerun\, GA 31744
UID:e.570.13270
SEQUENCE:3
DTSTAMP:20260422T115611Z
URL:http://business.moultriechamber.com/events/details/doerun-crafternoon-06-06-2024-13270
END:VEVENT

END:VCALENDAR
