BEGIN:VCALENDAR
VERSION:2.0
PRODID:-//ChamberMaster//Event Calendar 2.0//EN
METHOD:PUBLISH
X-PUBLISHED-TTL:P3D
REFRESH-INTERVAL:P3D
CALSCALE:GREGORIAN
BEGIN:VEVENT
DTSTART:20220606T143000Z
DTEND:20220606T153000Z
X-MICROSOFT-CDO-ALLDAYEVENT:FALSE
SUMMARY:Doc Magic's Fun Time Variety show
DESCRIPTION:Doc Magic's Fun Time Variety Show  Balloon artist and magician Dewayne Reynolds is back for another fun\, interactive show.
X-ALT-DESC;FMTTYPE=text/html:Doc Magic&rsquo\;s Fun Time Variety Show&mdash\;&nbsp\;Balloon artist and magician Dewayne Reynolds is back for another fun\, interactive show.
LOCATION:Moultrie-Colquitt Library System 504 5th Street\, SE Moultrie\, Ga.
UID:e.570.12905
SEQUENCE:3
DTSTAMP:20260423T165712Z
URL:http://business.moultriechamber.com/events/details/doc-magic-s-fun-time-variety-show-12905
END:VEVENT

END:VCALENDAR
