BEGIN:VCALENDAR
VERSION:2.0
PRODID:-//ChamberMaster//Event Calendar 2.0//EN
METHOD:PUBLISH
X-PUBLISHED-TTL:P3D
REFRESH-INTERVAL:P3D
CALSCALE:GREGORIAN
BEGIN:VEVENT
DTSTART:20210212T210000Z
DTEND:20210213T020000Z
X-MICROSOFT-CDO-ALLDAYEVENT:FALSE
SUMMARY:Dine Without Whine
DESCRIPTION:Let us watch your kids for a few hours so you can have a Valentine's date night without the fuss of having to find a babysitter! $5 per child from 4-9 pm. See you then!
X-ALT-DESC;FMTTYPE=text/html:Let us watch your kids for a few hours so you can have a Valentine&#39\;s date night without the fuss of having to find a babysitter! $5 per child from 4-9 pm. See you then!
LOCATION:Tommy Meredith Gym 1100 5th St SW
UID:e.570.11298
SEQUENCE:3
DTSTAMP:20260424T124319Z
URL:http://business.moultriechamber.com/events/details/dine-without-whine-11298
END:VEVENT

END:VCALENDAR
