BEGIN:VCALENDAR
VERSION:2.0
PRODID:-//ChamberMaster//Event Calendar 2.0//EN
METHOD:PUBLISH
X-PUBLISHED-TTL:P3D
REFRESH-INTERVAL:P3D
CALSCALE:GREGORIAN
BEGIN:VEVENT
DTSTART:20180914T200000Z
DTEND:20180914T210000Z
X-MICROSOFT-CDO-ALLDAYEVENT:FALSE
SUMMARY:Didgeridoo Down Under
DESCRIPTION:The highly-acclaimed Didgeridoo Down Under show is a unique fusion of music\, culture\, science\, comedy\, character building\, anti-bullying\, environmentalism and audience participation.
X-ALT-DESC;FMTTYPE=text/html:The highly-acclaimed Didgeridoo Down Under show is a unique fusion of music\, culture\, science\, comedy\, character building\, anti-bullying\, environmentalism and audience participation.
LOCATION:Ryce Community Center\, 305 7th St NW\, Moultrie\, GA
UID:e.570.9397
SEQUENCE:3
DTSTAMP:20260426T020341Z
URL:http://business.moultriechamber.com/events/details/didgeridoo-down-under-09-14-2018-9397
END:VEVENT

END:VCALENDAR
