BEGIN:VCALENDAR
VERSION:2.0
PRODID:-//ChamberMaster//Event Calendar 2.0//EN
METHOD:PUBLISH
X-PUBLISHED-TTL:P3D
REFRESH-INTERVAL:P3D
CALSCALE:GREGORIAN
BEGIN:VEVENT
DTSTART:20211028T220000Z
DTEND:20211029T030000Z
X-MICROSOFT-CDO-ALLDAYEVENT:FALSE
SUMMARY:Derrick Dove & The Peacekeepers
DESCRIPTION:Rockin Robyn Presents is bringing Georgia's own Derrick Dove to Ashburn Hill Plantation for one night only. Derrick Dove & The Peacekeepers in Moultrie means blues\, soul & southern rock-n-roll.
X-ALT-DESC;FMTTYPE=text/html:Rockin Robyn Presents is bringing Georgia&#39\;s own Derrick Dove to Ashburn Hill Plantation for one night only. Derrick Dove &amp\; The Peacekeepers in Moultrie means blues\, soul &amp\; southern rock-n-roll.
LOCATION:Ashburn Hill Plantation 1172 Lower Meigs Road Moultrie\, GA 31768
UID:e.570.11958
SEQUENCE:3
DTSTAMP:20260424T031328Z
URL:http://business.moultriechamber.com/events/details/derrick-dove-the-peacekeepers-11958
END:VEVENT

END:VCALENDAR
