BEGIN:VCALENDAR
VERSION:2.0
PRODID:-//ChamberMaster//Event Calendar 2.0//EN
METHOD:PUBLISH
X-PUBLISHED-TTL:P3D
REFRESH-INTERVAL:P3D
CALSCALE:GREGORIAN
BEGIN:VEVENT
DTSTART:20190203T000000Z
DTEND:20190203T020000Z
X-MICROSOFT-CDO-ALLDAYEVENT:FALSE
SUMMARY:Daddy Daughter Dance
DESCRIPTION:Serenity House's Annual Daddy Daughter Dance will be held on Saturday\, February 2nd.
X-ALT-DESC;FMTTYPE=text/html:Serenity House&#39\;s Annual Daddy Daughter Dance will be held on Saturday\, February 2nd.
LOCATION:The dance will be held at Southern Regional Technical College.
UID:e.570.9462
SEQUENCE:3
DTSTAMP:20260425T190811Z
URL:http://business.moultriechamber.com/events/details/daddy-daughter-dance-9462
END:VEVENT

END:VCALENDAR
