BEGIN:VCALENDAR
VERSION:2.0
PRODID:-//ChamberMaster//Event Calendar 2.0//EN
METHOD:PUBLISH
X-PUBLISHED-TTL:P3D
REFRESH-INTERVAL:P3D
CALSCALE:GREGORIAN
BEGIN:VEVENT
DTSTART:20200202T000000Z
DTEND:20200202T020000Z
X-MICROSOFT-CDO-ALLDAYEVENT:FALSE
SUMMARY:Daddy Daughter Dance
DESCRIPTION:Colquitt County Serenity House will be hosting its annual Daddy Daughter Dance fundraiser.
X-ALT-DESC;FMTTYPE=text/html:Colquitt County Serenity House will be hosting its annual Daddy Daughter Dance fundraiser.
LOCATION:Southern Regional Technical College 800 Veterans Parkway North Moultrie GA 31788
UID:e.570.10944
SEQUENCE:3
DTSTAMP:20260425T040524Z
URL:http://business.moultriechamber.com/events/details/daddy-daughter-dance-02-01-2020-10944
END:VEVENT

END:VCALENDAR
