BEGIN:VCALENDAR
VERSION:2.0
PRODID:-//ChamberMaster//Event Calendar 2.0//EN
METHOD:PUBLISH
X-PUBLISHED-TTL:P3D
REFRESH-INTERVAL:P3D
CALSCALE:GREGORIAN
BEGIN:VEVENT
DTSTART:20180723T203000Z
DTEND:20180723T213000Z
X-MICROSOFT-CDO-ALLDAYEVENT:FALSE
SUMMARY:Curious Moon Puppets
DESCRIPTION:Puppet dog Skeeter takes control of the show in Skeeter's Amazing Fantastic Machine.
X-ALT-DESC;FMTTYPE=text/html:Puppet dog Skeeter takes control of the show in Skeeter&rsquo\;s Amazing Fantastic Machine.
LOCATION:Doerun Library\, 185 N Freeman St.\, Doerun
UID:e.570.9335
SEQUENCE:3
DTSTAMP:20260426T042656Z
URL:http://business.moultriechamber.com/events/details/curious-moon-puppets-9335
END:VEVENT

END:VCALENDAR
