BEGIN:VCALENDAR
VERSION:2.0
PRODID:-//ChamberMaster//Event Calendar 2.0//EN
METHOD:PUBLISH
X-PUBLISHED-TTL:P3D
REFRESH-INTERVAL:P3D
CALSCALE:GREGORIAN
BEGIN:VEVENT
DTSTART:20210121T210000Z
DTEND:20210121T220000Z
X-MICROSOFT-CDO-ALLDAYEVENT:FALSE
SUMMARY:Creative Handwriting Workshop
DESCRIPTION:Enjoy learning the skill of creating beautiful fonts by hand. Multiple styles of handwriting will be demonstrated and each student will be given the tools and instruction on how to best begin practicing this form of art. Instructor Rio Davies
X-ALT-DESC;FMTTYPE=text/html:Enjoy learning the skill of creating beautiful fonts by hand. Multiple styles of handwriting will be demonstrated and each student will be given the tools and instruction on how to best begin practicing this form of art. Instructor Rio Davies
LOCATION:Colquitt County Arts Center 401 7th Avenue S.W. Moultrie\, GA 31768
UID:e.570.11291
SEQUENCE:3
DTSTAMP:20260424T140507Z
URL:http://business.moultriechamber.com/events/details/creative-handwriting-workshop-11291
END:VEVENT

END:VCALENDAR
