BEGIN:VCALENDAR
VERSION:2.0
PRODID:-//ChamberMaster//Event Calendar 2.0//EN
METHOD:PUBLISH
X-PUBLISHED-TTL:P3D
REFRESH-INTERVAL:P3D
CALSCALE:GREGORIAN
BEGIN:VEVENT
DTSTART:20201110T213000Z
DTEND:20201110T223000Z
X-MICROSOFT-CDO-ALLDAYEVENT:FALSE
SUMMARY:Creative Hand Writing Workshop
DESCRIPTION:Tuesday\, November 10th 4:30 pm   5:30 pm $30 All Ages Instructor Rio Davies Enjoy learning the skill of creating beautiful fonts by hand. Multiple styles of handwriting will be demonstrated and each student will be given the tools and instruction on how to best begin practicing this form of art.
X-ALT-DESC;FMTTYPE=text/html:Tuesday\, November 10th 4:30 pm &ndash\; 5:30 pm $30 All Ages Instructor Rio Davies Enjoy learning the skill of creating beautiful fonts by hand. Multiple styles of handwriting will be demonstrated and each student will be given the tools and instruction on how to best begin practicing this form of art.
LOCATION:Colquitt County Arts Center 401 7th Avenue S.W. Moultrie\, GA 31768
UID:e.570.11222
SEQUENCE:3
DTSTAMP:20260424T163557Z
URL:http://business.moultriechamber.com/events/details/creative-hand-writing-workshop-11222
END:VEVENT

END:VCALENDAR
