BEGIN:VCALENDAR
VERSION:2.0
PRODID:-//ChamberMaster//Event Calendar 2.0//EN
METHOD:PUBLISH
X-PUBLISHED-TTL:P3D
REFRESH-INTERVAL:P3D
CALSCALE:GREGORIAN
BEGIN:VEVENT
DTSTART:20210518T200000Z
DTEND:20210518T210000Z
X-MICROSOFT-CDO-ALLDAYEVENT:FALSE
SUMMARY:Creative Hand Writing Workshop
DESCRIPTION:The art of hand lettering is fun to learn and can be used in so many ways. This class will cover various styles and methods of lettering by hand. Instructor Rio Davies Ages 10+
X-ALT-DESC;FMTTYPE=text/html:The art of hand lettering is fun to learn and can be used in so many ways. This class will cover various styles and methods of lettering by hand. Instructor Rio Davies Ages 10+
LOCATION:Colquitt County Arts Center 401 7th Avenue S.W. Moultrie\, GA 31768
UID:e.570.11399
SEQUENCE:3
DTSTAMP:20260424T090454Z
URL:http://business.moultriechamber.com/events/details/creative-hand-writing-workshop-05-18-2021-11399
END:VEVENT

END:VCALENDAR
