BEGIN:VCALENDAR
VERSION:2.0
PRODID:-//ChamberMaster//Event Calendar 2.0//EN
METHOD:PUBLISH
X-PUBLISHED-TTL:P3D
REFRESH-INTERVAL:P3D
CALSCALE:GREGORIAN
BEGIN:VEVENT
DTSTART:20180911T200000Z
DTEND:20180911T210000Z
X-MICROSOFT-CDO-ALLDAYEVENT:FALSE
SUMMARY:Crazy 8s Club at MCCLS
DESCRIPTION:A totally new kind of math club where you'll build stuff\, run and jump\, and make a mess! For kids ages 5-9 .
X-ALT-DESC;FMTTYPE=text/html:A totally new kind of math club where you&#39\;ll build stuff\, run and jump\, and make a mess! For kids ages 5-9 .
LOCATION:Moultrie-Colquitt County Library\, 225 South Main Street
UID:e.570.9390
SEQUENCE:3
DTSTAMP:20260426T032503Z
URL:http://business.moultriechamber.com/events/details/crazy-8s-club-at-mccls-09-11-2018-9390
END:VEVENT

END:VCALENDAR
