BEGIN:VCALENDAR
VERSION:2.0
PRODID:-//ChamberMaster//Event Calendar 2.0//EN
METHOD:PUBLISH
X-PUBLISHED-TTL:P3D
REFRESH-INTERVAL:P3D
CALSCALE:GREGORIAN
BEGIN:VEVENT
DTSTART:20180814T200000Z
DTEND:20180814T210000Z
X-MICROSOFT-CDO-ALLDAYEVENT:FALSE
SUMMARY:Crazy 8s Club
DESCRIPTION:A totally new kind of math club where you'll build stuff\, run and jump\, and make a mess! For kids age 5 - 9 years.
X-ALT-DESC;FMTTYPE=text/html:A totally new kind of math club where you&#39\;ll build stuff\, run and jump\, and make a mess! For kids age 5 - 9 years.
LOCATION:Moultrie Library\, 225 S. Main St\, Moultrie (Temporary Location)
UID:e.570.9370
SEQUENCE:3
DTSTAMP:20260426T032233Z
URL:http://business.moultriechamber.com/events/details/crazy-8s-club-9370
END:VEVENT

END:VCALENDAR
