BEGIN:VCALENDAR
VERSION:2.0
PRODID:-//ChamberMaster//Event Calendar 2.0//EN
METHOD:PUBLISH
X-PUBLISHED-TTL:P3D
REFRESH-INTERVAL:P3D
CALSCALE:GREGORIAN
BEGIN:VEVENT
DTSTART:20180821T200000Z
DTEND:20180821T210000Z
X-MICROSOFT-CDO-ALLDAYEVENT:FALSE
SUMMARY:Crazy 8's Club
DESCRIPTION:A totally new kind of math club where you'll build stuff\, run and jump\, and make a mess! For kids age 5 - 9 years. Tuesday\, August 14\, 2018 4:00 PM - 5:00 PM
X-ALT-DESC;FMTTYPE=text/html:A totally new kind of math club where you&#39\;ll build stuff\, run and jump\, and make a mess! For kids age 5 - 9 years. Tuesday\, August 14\, 2018 4:00 PM - 5:00 PM
LOCATION:Moultrie Library\, 225 S. Main St\, Moultrie (Temporary Location)
UID:e.570.9375
SEQUENCE:3
DTSTAMP:20260426T032233Z
URL:http://business.moultriechamber.com/events/details/crazy-8-s-club-9375
END:VEVENT

END:VCALENDAR
